BEGIN:VCALENDAR
VERSION:2.0
PRODID:-//Les dissidents magnifiques - ECPv5.14.1//NONSGML v1.0//EN
CALSCALE:GREGORIAN
METHOD:PUBLISH
X-WR-CALNAME:Les dissidents magnifiques
X-ORIGINAL-URL:https://les-dissidents-magnifiques.com
X-WR-CALDESC:Events for Les dissidents magnifiques
REFRESH-INTERVAL;VALUE=DURATION:PT1H
X-Robots-Tag:noindex
X-PUBLISHED-TTL:PT1H
BEGIN:VTIMEZONE
TZID:Europe/Paris
BEGIN:DAYLIGHT
TZOFFSETFROM:+0100
TZOFFSETTO:+0200
TZNAME:CEST
DTSTART:20220327T010000
END:DAYLIGHT
BEGIN:STANDARD
TZOFFSETFROM:+0200
TZOFFSETTO:+0100
TZNAME:CET
DTSTART:20221030T010000
END:STANDARD
END:VTIMEZONE
BEGIN:VEVENT
DTSTART;TZID=Europe/Paris:20221016T160000
DTEND;TZID=Europe/Paris:20221016T173000
DTSTAMP:20260420T080022
CREATED:20220809T094642Z
LAST-MODIFIED:20221005T203816Z
UID:242-1665936000-1665941400@les-dissidents-magnifiques.com
SUMMARY:Chacun cherche son train
DESCRIPTION:Berlin – 31 décembre 1999. L’apocalypse semble imminente. On cherche à quitter la ville par tous les moyens. Tout s’effondre\, les entreprises comme les couples. Rendez-vous Gare centrale\, salle des pas perdus\, au milieu de personnages plus loufoques les uns que les autres. Le chacun pour soi va-t-il céder la place à la solidarité pour affronter le désastre annoncé du nouveau millénaire ? Une réponse toute en couleur et en musique vers une joyeuse « unhappy end » !
URL:https://les-dissidents-magnifiques.com/event/chacun-cherche-son-train/
LOCATION:Espace Agora\, Santes\, Espace Agora\, Avenue des sports\, Santes\, 59211\, France
END:VEVENT
END:VCALENDAR